BEGIN:VCALENDAR
VERSION:2.0
PRODID:-//Tukios.com/
BEGIN:VEVENT
UID:e13edd03-4fb5-4828-8741-1ea114a647f8@www.andersonclaytonkemp.com
DTSTAMP:20260420T204048Z
DTSTART:20260422T190000Z
DTEND:20260422T200000Z
SUMMARY:Burial
DESCRIPTION:
URL:https://www.andersonclaytonkemp.com/obituaries/donna-harris
LOCATION: Co Rd 2138  Kemp TX 75143
GEO:32.3009786;-96.2487395
END:VEVENT
END:VCALENDAR